BEGIN:VCALENDAR
VERSION:2.0
PRODID:-//eventon.com NONSGML v1.0//EN
CALSCALE:GREGORIAN
METHOD:PUBLISH
BEGIN:VEVENT
UID:69eb3ca934a4c
DTSTAMP:20260424T094929Z
DTSTART:20260526T073000Z
DTEND:20260603T104500Z
LOCATION:
SUMMARY:Pfingst-Ferien-Kurs 2026
DESCRIPTION:14 Unterrichte in 7 Tagen! Wir freuen uns auf Euch.Gerne könnt
  Ihr Euch bereits in der Fahrschule anmelden.Es besteht auch die Möglichke
 it\,  sich während des Kurses anzumelden. Selbstverständlich können alle
  unsere Schülerinnen und Schüler die Unterrichte besuchen! Hier geht es z
 ur Übersicht! https://www.fahrschule-braun.info/pfingst-ferien-kurs-2026/
 \nhttps://www.fahrschule-braun.info/events/pfingst-ferien-kurs-2026/
URL:https://www.fahrschule-braun.info/events/pfingst-ferien-kurs-2026/
END:VEVENT
END:VCALENDAR