BEGIN:VCALENDAR
VERSION:2.0
PRODID:-//eventon.com NONSGML v1.0//EN
CALSCALE:GREGORIAN
METHOD:PUBLISH
BEGIN:VEVENT
UID:69e6f32b535e1
DTSTAMP:20260421T034651Z
DTSTART:20250422T170000Z
DTEND:20250422T183000Z
LOCATION:
SUMMARY:Spezialunterricht "B"
DESCRIPTION:Klassenspezifischer Unterricht für die Klassen B\,  B197\,  B7
 8.(Zwei Doppelstunden á 90 Minuten - Lektionen 13+14)\nhttps://www.fahrsch
 ule-braun.info/events/spezialunterricht-b/
URL:https://www.fahrschule-braun.info/events/spezialunterricht-b/
END:VEVENT
END:VCALENDAR