BEGIN:VCALENDAR
VERSION:2.0
PRODID:-//eventon.com NONSGML v1.0//EN
CALSCALE:GREGORIAN
METHOD:PUBLISH
BEGIN:VEVENT
UID:69e74f7322c8d
DTSTAMP:20260421T102035Z
DTSTART:20240609T220100Z
DTEND:20240622T215900Z
LOCATION:
SUMMARY:Unterrichtsfrei
DESCRIPTION:Kein Unterricht vom 10.06.2024 bis zum 22.06.2024\nhttps://www.
 fahrschule-braun.info/events/unterrichtsfrei/
URL:https://www.fahrschule-braun.info/events/unterrichtsfrei/
END:VEVENT
END:VCALENDAR